BEGIN:VCALENDAR
VERSION:2.0
PRODID:-//Wavelink - ECPv4.9.11//NONSGML v1.0//EN
CALSCALE:GREGORIAN
METHOD:PUBLISH
X-WR-CALNAME:Wavelink
X-ORIGINAL-URL:https://www.wavelink.com.au
X-WR-CALDESC:Events for Wavelink
BEGIN:VTIMEZONE
TZID:Australia/Sydney
BEGIN:STANDARD
TZOFFSETFROM:+1100
TZOFFSETTO:+1000
TZNAME:AEST
DTSTART:20210403T160000
END:STANDARD
BEGIN:DAYLIGHT
TZOFFSETFROM:+1000
TZOFFSETTO:+1100
TZNAME:AEDT
DTSTART:20211002T160000
END:DAYLIGHT
END:VTIMEZONE
BEGIN:VEVENT
DTSTART;TZID=Australia/Sydney:20210202T110000
DTEND;TZID=Australia/Sydney:20210202T120000
DTSTAMP:20210226T184956
CREATED:20210121T221038Z
LAST-MODIFIED:20210121T221337Z
UID:33608-1612263600-1612267200@www.wavelink.com.au
SUMMARY:Gaining the Edge on Your Network: How Fortinet Enables LAN Edge from Branch to Campus
DESCRIPTION:Control and secure all the LAN edges in your network \nThe LAN edge is one of the most complex and difficult vectors to secure and manage. Join our webinar to learn how to address the specific challenges posed by each LAN edge location: \n\nThe campus\nThe branch office\nThe teleworker remote office\n\nWe will also go over the 2020 Gartner Magic Quadrant for Wired and Wireless LAN Access Infrastructure.\nDon’t miss this timely discussion! \n
URL:https://go.fortinet.com/apac-lp-anz/lan-edge-from-branch-to-campus#new_tab
CATEGORIES:Online,Webinar
ATTACH;FMTTYPE=image/jpeg:https://www.wavelink.com.au/wp-content/uploads/LAN-edge-webinar-v2-400px.jpg
END:VEVENT
END:VCALENDAR